BEGIN:VCALENDAR
VERSION:2.0
PRODID:icalendar-ruby
CALSCALE:GREGORIAN
METHOD:PUBLISH
BEGIN:VEVENT
DTSTAMP:20260419T194506Z
UID:971-6051251@bethanybaptist.ab.ca
DTSTART:20260423T153000Z
DTEND:20260423T173000Z
CLASS:PUBLIC
CREATED:20260406T114052
DESCRIPTION:
LAST-MODIFIED:20260406T114052
LOCATION:
SUMMARY:Youth for Christ Mums' Group
URL;VALUE=URI:https://www.bethanybaptist.ab.ca/events/youth-for-christ-mums
 -group/2026-04-23
END:VEVENT
END:VCALENDAR
