BEGIN:VCALENDAR
VERSION:2.0
PRODID:icalendar-ruby
CALSCALE:GREGORIAN
METHOD:PUBLISH
BEGIN:VEVENT
DTSTAMP:20260419T213851Z
UID:977-6174875@bethanybaptist.ab.ca
DTSTART:20260507T153000Z
DTEND:20260507T170000Z
CLASS:PUBLIC
CREATED:20260415T090808
DESCRIPTION:
LAST-MODIFIED:20260415T090808
LOCATION:
SUMMARY:Youth for Christ Mums' Group
URL;VALUE=URI:https://www.bethanybaptist.ab.ca/events/youth-for-christ-mums
 -group--977/2026-05-07
END:VEVENT
END:VCALENDAR
