BEGIN:VCALENDAR
VERSION:2.0
PRODID:icalendar-ruby
CALSCALE:GREGORIAN
METHOD:PUBLISH
BEGIN:VEVENT
DTSTAMP:20260421T142543Z
UID:6-6255910@bethanybaptist.ab.ca
DTSTART:20261011T163000Z
DTEND:20261011T180000Z
CLASS:PUBLIC
CREATED:20260421T064944
DESCRIPTION:Worship Service\n \n 
LAST-MODIFIED:20260421T064944
LOCATION:Church Main Hall
SUMMARY:Worship  Service
URL;VALUE=URI:https://www.bethanybaptist.ab.ca/events/worship-service/2026-
 10-11
ATTACH;FILENAME=Untitled design.png;FMTTYPE=image/png:https://dq5pwpg1q8ru0
 .cloudfront.net/2025/12/30/17/03/32/00bf61c3-1238-4bc0-ab0d-11c3c4fc5ed2/U
 ntitled%20design.png
END:VEVENT
END:VCALENDAR
