BEGIN:VCALENDAR
VERSION:2.0
PRODID:icalendar-ruby
CALSCALE:GREGORIAN
METHOD:PUBLISH
BEGIN:VEVENT
DTSTAMP:20260419T213814Z
UID:973-6053536@bethanybaptist.ab.ca
DTSTART:20260428T010000Z
DTEND:20260428T023000Z
CLASS:PUBLIC
CREATED:20260406T114559
DESCRIPTION:
LAST-MODIFIED:20260406T114559
LOCATION:
SUMMARY:SLB Meeting
URL;VALUE=URI:https://www.bethanybaptist.ab.ca/events/slb-meeting--973/2026
 -04-27
ATTACH;FILENAME=SLB Meeting Email Header (1).png;FMTTYPE=image/png:https://
 dq5pwpg1q8ru0.cloudfront.net/2026/04/06/17/45/59/31429a7b-1a2c-41c3-bafa-a
 166ce7682b7/SLB%20Meeting%20Email%20Header%20(1).png
END:VEVENT
END:VCALENDAR
