BEGIN:VCALENDAR
VERSION:2.0
PRODID:icalendar-ruby
CALSCALE:GREGORIAN
METHOD:PUBLISH
BEGIN:VEVENT
DTSTAMP:20260421T113402Z
UID:25-6254400@bethanybaptist.ab.ca
DTSTART:20260909T153000Z
DTEND:20260909T170000Z
CLASS:PUBLIC
CREATED:20260421T041337
DESCRIPTION:"Growing in Christ - Serving With Joy"\nTime: \n  9:30 a.m.  
 Coffee\n10:00 a.m. - 11:00 a.m.  Group Time\nDress: Casual\nPlace: Bethan
 y Baptist Lower Auditorium\n 
LAST-MODIFIED:20260421T041337
LOCATION:Bethany Baptist Church
SUMMARY:Seniors Ministry
URL;VALUE=URI:https://www.bethanybaptist.ab.ca/events/seniors-ministry/2026
 -09-09
ATTACH;FILENAME=Seniors Ministry.png;FMTTYPE=image/png:https://dq5pwpg1q8ru
 0.cloudfront.net/2025/07/04/15/52/36/5e40a357-a4e5-41d6-b58c-ae47a4d8568d/
 Seniors%20Ministry.png
END:VEVENT
END:VCALENDAR
