BEGIN:VCALENDAR
VERSION:2.0
PRODID:icalendar-ruby
CALSCALE:GREGORIAN
METHOD:PUBLISH
BEGIN:VEVENT
DTSTAMP:20260419T213200Z
UID:976-6174874@bethanybaptist.ab.ca
DTSTART:20260509T003000Z
DTEND:20260509T020000Z
CLASS:PUBLIC
CREATED:20260415T090714
DESCRIPTION:
LAST-MODIFIED:20260415T090714
LOCATION:
SUMMARY:Life group Leaders Meeting 
URL;VALUE=URI:https://www.bethanybaptist.ab.ca/events/life-group-leaders-me
 eting/2026-05-08
END:VEVENT
END:VCALENDAR
