BEGIN:VCALENDAR
VERSION:2.0
PRODID:icalendar-ruby
CALSCALE:GREGORIAN
METHOD:PUBLISH
BEGIN:VEVENT
DTSTAMP:20260419T200125Z
UID:975-6053540@bethanybaptist.ab.ca
DTSTART:20260425T003000Z
DTEND:20260425T030000Z
CLASS:PUBLIC
CREATED:20260406T115025
DESCRIPTION:
LAST-MODIFIED:20260406T115025
LOCATION:
SUMMARY:Ladies' Night
URL;VALUE=URI:https://www.bethanybaptist.ab.ca/events/ladies-night--975/202
 6-04-24
ATTACH;FILENAME="Announcement January 11, 2026 (16).png";FMTTYPE=image/png:
 https://dq5pwpg1q8ru0.cloudfront.net/2026/04/06/17/50/25/b5f50688-3d8d-484
 c-a599-2a17828a44c6/Announcement%20January%2011,%202026%20(16).png
END:VEVENT
END:VCALENDAR
