BEGIN:VCALENDAR
VERSION:2.0
PRODID:icalendar-ruby
CALSCALE:GREGORIAN
METHOD:PUBLISH
BEGIN:VEVENT
DTSTAMP:20260419T212937Z
UID:974-6053537@bethanybaptist.ab.ca
DTSTART:20260430T150000Z
DTEND:20260501T180000Z
CLASS:PUBLIC
CREATED:20260406T114803
DESCRIPTION:
LAST-MODIFIED:20260406T114803
LOCATION:
SUMMARY:Equip Conference 2026 (For Church Representatives)
URL;VALUE=URI:https://www.bethanybaptist.ab.ca/events/equip-conference-2026
 -for-church-representatives/2026-04-30
ATTACH;FILENAME=imag243.jpg;FMTTYPE=image/jpeg:https://dq5pwpg1q8ru0.cloudf
 ront.net/2026/04/06/17/48/03/e6ec5152-5319-4409-be0b-0dfb0083e900/imag243.
 jpg
END:VEVENT
END:VCALENDAR
