BEGIN:VCALENDAR
VERSION:2.0
PRODID:icalendar-ruby
CALSCALE:GREGORIAN
METHOD:PUBLISH
BEGIN:VEVENT
DTSTAMP:20260422T014930Z
UID:871-6266726@bethanybaptist.ab.ca
DTSTART:20260916T003000Z
DTEND:20260916T020000Z
CLASS:PUBLIC
CREATED:20260421T172020
DESCRIPTION:
LAST-MODIFIED:20260421T172020
LOCATION:At the church
SUMMARY:Adventure Club
URL;VALUE=URI:https://www.bethanybaptist.ab.ca/events/adventure-club/2026-0
 9-15
ATTACH;FILENAME=AC-Logo-4c-RGB.png;FMTTYPE=image/png:https://dq5pwpg1q8ru0.
 cloudfront.net/2025/08/12/00/21/05/0ef1bd92-3f9b-4a51-9182-20ecdcf96bf0/AC
 -Logo-4c-RGB.png
END:VEVENT
END:VCALENDAR
