BEGIN:VCALENDAR
VERSION:2.0
PRODID:icalendar-ruby
CALSCALE:GREGORIAN
METHOD:PUBLISH
BEGIN:VEVENT
DTSTAMP:20260419T213851Z
UID:972-6051252@bethanybaptist.ab.ca
DTSTART:20260426T210000Z
DTEND:20260426T220000Z
CLASS:PUBLIC
CREATED:20260406T114230
DESCRIPTION:
LAST-MODIFIED:20260406T114230
LOCATION:
SUMMARY:A.P.P. Traning
URL;VALUE=URI:https://www.bethanybaptist.ab.ca/events/a-p-p-traning/2026-04
 -26
ATTACH;FILENAME=APP Orientation Facebook Post.png;FMTTYPE=image/png:https:/
 /dq5pwpg1q8ru0.cloudfront.net/2026/04/06/17/42/30/4bb893c4-8807-48c9-a4f3-
 5285c712bfca/APP%20Orientation%20Facebook%20Post.png
END:VEVENT
END:VCALENDAR
